BEGIN:VCALENDAR
VERSION:2.0
PRODID:-//CalHomeCo - ECPv6.15.5//NONSGML v1.0//EN
CALSCALE:GREGORIAN
METHOD:PUBLISH
X-ORIGINAL-URL:https://calhomeco.com
X-WR-CALDESC:Events for CalHomeCo
REFRESH-INTERVAL;VALUE=DURATION:PT1H
X-Robots-Tag:noindex
X-PUBLISHED-TTL:PT1H
BEGIN:VTIMEZONE
TZID:America/Los_Angeles
BEGIN:DAYLIGHT
TZOFFSETFROM:-0800
TZOFFSETTO:-0700
TZNAME:PDT
DTSTART:20250309T100000
END:DAYLIGHT
BEGIN:STANDARD
TZOFFSETFROM:-0700
TZOFFSETTO:-0800
TZNAME:PST
DTSTART:20251102T090000
END:STANDARD
END:VTIMEZONE
BEGIN:VEVENT
DTSTART;TZID=America/Los_Angeles:20250611T170000
DTEND;TZID=America/Los_Angeles:20250611T190000
DTSTAMP:20260419T070130
CREATED:20250523T191431Z
LAST-MODIFIED:20250523T191431Z
UID:49210-1749661200-1749668400@calhomeco.com
SUMMARY:How to Get Started & Scale in Multifamily Real Estate Investing
DESCRIPTION:Interested in building long-term wealth through real estate investing? \nWhether you’re a real estate agent ready to invest in your first multifamily property\, or a new investor looking to scale smartly—this event is for you. Join us on June 11th for an exclusive\, in-person session with Jason Lee\, one of San Diego’s top commercial real estate brokers and a multifamily investment expert. \nSpeaker: \nJason Lee – Nara Advisors \nJason Lee is a highly recognized real estate agent in the multifamily real estate industry. He has worked with over multiple eight to ten figure real estate investors from San Diego County\, helping them acquire and sell apartment complexes. In the last few years\, Jason has represented over 100 investors and sold over $300\,000\,000 worth of real estate in San Diego County. \nHe is well respected by his investors and he is currently one of the top producing real estate agents in San Diego County. His transactions have been shared in the San Diego Business Journal and Costar. Jason’s core values putting his clients’ interests before his and absolute integrity. \nJason has sold more commercial real estate than anyone else in the country at his age. He is now dedicated to helping new agents succeed in this business and growing JLM Real Estate. His secret\, highly profitable system he created is repeatable and scalable for other agents to utilize. Jason owns $50\,000\,000 in real estate in San Diego. \nhttps://www.instagram.com/jasonjosephlee/ \nhttps://www.facebook.com/profile.php?id=100001701018561# \nIn this session\, Jason will cover: \n\nHow to find multifamily deals and evaluate them using key metrics\nWhat makes a deal attractive to investors in today’s market\nWhere to source off-market and value-add multifamily opportunities\nHow to finance your first (or next) multifamily property Tools\, software\, and time-saving tips for busy professionals\n\nSponsor: \nBrandon Warnke – TaliMar Financial \nTaliMar Financial has been funding California hard money loans for non-owner occupied residential and commercial fix and flip\, construction\, and bridge loans since 2008. As a direct lender through their mortgage fund\, TaliMar Income Fund I\, offers flexible private money loan programs for investors that need to close quickly. \nThis is a must-attend event for real estate agents\, new investors\, and anyone curious about how to break into multifamily real estate investing in San Diego and beyond. \nThis event is free for people in the real estate industry (agents\, investors\, lenders\, title and escrow reps). For those outside the industry\, there is a $5 fee. \nNetworking\, food and drinks \nBut that’s not all – this event is also a great opportunity to network with other like-minded professionals in the real estate industry. Share your experiences\, make valuable connections\, and potentially find new deals down the line. Plus\, we’ll have some tasty snacks and drinks on hand to keep the energy high and the conversation flowing. \nSo don’t miss out on this chance to level up your real estate game. Reserve your spot today! \nAs always\, food and drinks will be served. \nLet’s connect on social:\nhttps://www.instagram.com/californiahomecompany/\nhttps://www.facebook.com/TheCalHomeCo/ \nHave a question?\n📞 (858) 633-7812\n📧 info@calhomeco.com\n🌐 calhomeco.com
URL:https://calhomeco.com/event/how-to-get-started-scale-in-multifamily-real-estate-investing/
LOCATION:CalHomeCo\, 4250 Morena Boulevard #ste e\, San Diego\, CA\, 92117\, United States
CATEGORIES:Real Estate Investing
ATTACH;FMTTYPE=image/png:https://calhomeco.com/wp-content/uploads/2025/05/Event-cover-11.png
END:VEVENT
BEGIN:VEVENT
DTSTART;TZID=America/Los_Angeles:20250617T120000
DTEND;TZID=America/Los_Angeles:20250617T133000
DTSTAMP:20260419T070130
CREATED:20250530T171451Z
LAST-MODIFIED:20250530T171451Z
UID:49265-1750161600-1750167000@calhomeco.com
SUMMARY:Deal or No Deal - House Flipping Pitch Sessions
DESCRIPTION:Join us for a practical workshop\, “Deal or No Deal – House Flipping Pitch Sessions.” \nBring an address\, and we’ll analyze it live. We’ll break down the numbers to determine if the property is worth flipping\, adding an ADU\, or holding for cash flow. We’ll also brainstorm crowdsourced strategies you could use. \nAll real estate agents in San Diego are welcome. This is a great place to learn how to get into the world of flipping properties. Learn how to evaluate fix-and-flip properties by focusing on key topics like property selection\, estimating renovation costs\, and understanding property values. You’ll sharpen your skills through hands-on exercises and real-life examples. We’ll cover the valuation techniques that professionals use\, including how to calculate the after-repair value using MLS and other tools. This knowledge will help you to make informed investment decisions and maximize your potential profits. \nSeen a distressed property and thought\, “That would be a good flip”? Bring in those addresses for live analysis as we break down the numbers and see if it has potential. All properties shared are confidential\, and you can trust that everyone in the room respects your privacy and investment opportunities. Wholesalers are welcome. \nYou can also submit your flip in advance for a more detailed review. Email the address/property to info@calhomeco.com. \nWe start right at 12pm\, get here early to grab some food and get a seat. \nAs always food and drinks will be served + FREE Parking available. \nEvent Sponsor: \nJason Strom – Easy Street Capital \nLet’s Connect on Social Media: \nInstagram: https://www.instagram.com/californiahomecompany/ \nFacebook: https://www.facebook.com/TheCalHomeCo
URL:https://calhomeco.com/event/deal-or-no-deal-house-flipping-pitch-sessions/
LOCATION:CalHomeCo\, 4250 Morena Boulevard #ste e\, San Diego\, CA\, 92117\, United States
CATEGORIES:Real Estate Investing
ATTACH;FMTTYPE=image/png:https://calhomeco.com/wp-content/uploads/2025/05/Event-cover-12.png
END:VEVENT
BEGIN:VEVENT
DTSTART;TZID=America/Los_Angeles:20250625T170000
DTEND;TZID=America/Los_Angeles:20250625T190000
DTSTAMP:20260419T070130
CREATED:20250602T213834Z
LAST-MODIFIED:20250602T213834Z
UID:49301-1750870800-1750878000@calhomeco.com
SUMMARY:Building Multifamily Real Estate in San Diego
DESCRIPTION:Whether you’re a homeowner curious about building a multifamily property or an investor looking to expand your portfolio—this event is for you. Join us on June 25th for an exclusive\, in-person session hosted by CalHomeCo Construction. \nSpeakers:\nCalHomeCo Construction Team \nCalHomeCo Construction specializes in building multifamily properties\, from duplexes and triplexes to 8+ unit projects. Our team has decades of combined experience in designing\, permitting\, and constructing multifamily buildings right here in San Diego. We’ll share real-world case studies of our past and current projects and give you insights into what it takes to build smarter and profitably. \nIn this session\, we’ll cover: \n\nDesign\, permitting\, and build-out best practices in San Diego\nKey numbers: construction costs & timelines\nTips for managing your build—from initial planning to completion\nLive examples of CalHomeCo projects currently under construction\n\nWho should attend:\nThis event is perfect for homeowners\, real estate agents\, and investors interested in multifamily development. Whether you want to build an apartment complex or add multiple ADUs to a single-family property\, you’ll learn practical steps and strategies to make it happen. \nEvent details:\nJune 25th\, 2025\n5pm – 7pm\n4250 Morena Blvd. Ste. E\, San Diego\, CA 92117 \nNetworking\, food and drinks:\nBeyond the workshop\, this is a great chance to connect with other like-minded professionals—investors\, agents\, lenders\, and more. Share your ideas\, learn from each other\, and build your network. We’ll have tasty snacks and drinks ready to keep the conversation flowing! \nDon’t miss this opportunity to learn how to make multifamily development work for you. Reserve your spot today! \nLet’s connect on social:\n🔗 https://www.instagram.com/californiahomecompany/\n🔗 https://www.facebook.com/TheCalHomeCo/ \nHave questions?\n📞 (858) 633-7812\n📧 info@calhomeco.com\n🌐 calhomeco.com
URL:https://calhomeco.com/event/building-multifamily-real-estate-in-san-diego/
LOCATION:CalHomeCo\, 4250 Morena Boulevard #ste e\, San Diego\, CA\, 92117\, United States
CATEGORIES:Real Estate Investing
ATTACH;FMTTYPE=image/png:https://calhomeco.com/wp-content/uploads/2025/06/Multifamily-Real-Estate-Event-CalHomeCo.png
END:VEVENT
END:VCALENDAR