BEGIN:VCALENDAR
VERSION:2.0
PRODID:-//CalHomeCo - ECPv6.15.5//NONSGML v1.0//EN
CALSCALE:GREGORIAN
METHOD:PUBLISH
X-WR-CALNAME:CalHomeCo
X-ORIGINAL-URL:https://calhomeco.com
X-WR-CALDESC:Events for CalHomeCo
REFRESH-INTERVAL;VALUE=DURATION:PT1H
X-Robots-Tag:noindex
X-PUBLISHED-TTL:PT1H
BEGIN:VTIMEZONE
TZID:America/Los_Angeles
BEGIN:DAYLIGHT
TZOFFSETFROM:-0800
TZOFFSETTO:-0700
TZNAME:PDT
DTSTART:20250309T100000
END:DAYLIGHT
BEGIN:STANDARD
TZOFFSETFROM:-0700
TZOFFSETTO:-0800
TZNAME:PST
DTSTART:20251102T090000
END:STANDARD
END:VTIMEZONE
BEGIN:VEVENT
DTSTART;TZID=America/Los_Angeles:20250514T170000
DTEND;TZID=America/Los_Angeles:20250514T190000
DTSTAMP:20260419T082729
CREATED:20250429T204735Z
LAST-MODIFIED:20250429T204735Z
UID:48989-1747242000-1747249200@calhomeco.com
SUMMARY:Market Like a Pro: Social Media & Cold Calling for Realtors
DESCRIPTION:Join us for a must-attend event designed specifically for real estate agents who want to grow their business with real strategies that work. In today’s market\, it takes more than just showing up—you need tools that actually help you win listings\, close deals\, and stay top of mind. \nYou’ll hear from two top-performing agents who are doing just that: one through social media marketing and the other through a unique cold calling approach that targets higher-end communities. This is a behind-the-scenes look you won’t want to miss. \nGabe Mendez – California’s #1 agent at Realty of America and a social media powerhouse with 190k+ followers. Gabe will break down what’s working right now on social\, how to build a brand that connects\, and how to turn views into closings. \nhttps://www.instagram.com/gabemendez/ \nhttps://gabemendez.realtor/ \nRory Cornelius – Founder of Cornelius Estates and a rising star who uses targeted cold calling to generate listings in San Diego’s top neighborhoods. He’ll walk through how he leverages Mojo Dialer and CoStar to find motivated sellers and create off-market deals for his buyers.\nhttps://www.instagram.com/rory.cornelius/ \nhttps://www.corneliusestates.net/ \nSponsor: \nKevin Hughes – Emerson Equity \nEmerson is a leading independent boutique investment firm with clients ranging from high net worth individuals and institutional investors\, to sponsor companies that bring private placement offerings to market. We are a trusted partner\, dedicated to remaining nimble and flexible in order to fully focus on the changing investment landscape and the needs of our clients. \nThis event is free for people in the real estate industry (agents\, lenders\, title and escrow reps). For those outside the industry\, there is a $5 fee. \nNetworking\, food and drinks \nBut that’s not all – this event is also a great opportunity to network with other like-minded professionals in the real estate industry. Share your experiences\, make valuable connections\, and potentially find new deals down the line. Plus\, we’ll have some tasty snacks and drinks on hand to keep the energy high and the conversation flowing. \nSo don’t miss out on this chance to level up your real estate game. Reserve your spot today! \nAs always\, food and drinks will be served. \nLet’s connect on social:\nhttps://www.instagram.com/californiahomecompany/\nhttps://www.facebook.com/TheCalHomeCo/ \nHave a question?\n📞 (858) 633-7812\n📧 info@calhomeco.com\n🌐 calhomeco.com
URL:https://calhomeco.com/event/market-like-a-pro-social-media-cold-calling-for-realtors/
LOCATION:CalHomeCo\, 4250 Morena Boulevard #ste e\, San Diego\, CA\, 92117\, United States
CATEGORIES:Realtors
ATTACH;FMTTYPE=image/avif:https://calhomeco.com/wp-content/uploads/2025/04/https___cdn.evbuc_.com_images_1016107253_297398084383_1_original.avif
END:VEVENT
END:VCALENDAR