BEGIN:VCALENDAR
VERSION:2.0
PRODID:-//CalHomeCo - ECPv6.15.5//NONSGML v1.0//EN
CALSCALE:GREGORIAN
METHOD:PUBLISH
X-WR-CALNAME:CalHomeCo
X-ORIGINAL-URL:https://calhomeco.com
X-WR-CALDESC:Events for CalHomeCo
REFRESH-INTERVAL;VALUE=DURATION:PT1H
X-Robots-Tag:noindex
X-PUBLISHED-TTL:PT1H
BEGIN:VTIMEZONE
TZID:America/Los_Angeles
BEGIN:DAYLIGHT
TZOFFSETFROM:-0800
TZOFFSETTO:-0700
TZNAME:PDT
DTSTART:20250309T100000
END:DAYLIGHT
BEGIN:STANDARD
TZOFFSETFROM:-0700
TZOFFSETTO:-0800
TZNAME:PST
DTSTART:20251102T090000
END:STANDARD
END:VTIMEZONE
BEGIN:VEVENT
DTSTART;TZID=America/Los_Angeles:20250715T120000
DTEND;TZID=America/Los_Angeles:20250715T133000
DTSTAMP:20260419T065914
CREATED:20250701T204633Z
LAST-MODIFIED:20250925T174503Z
UID:49316-1752580800-1752586200@calhomeco.com
SUMMARY:Deal or No Deal - House Flipping Pitch Sessions
DESCRIPTION:Join us for a practical workshop\, “Deal or No Deal – House Flipping Pitch Sessions.” \nBring an address\, and we’ll analyze it live. We’ll break down the numbers to determine if the property is worth flipping\, adding an ADU\, or holding for cash flow. We’ll also brainstorm crowdsourced strategies you could use. \nLearn how to evaluate fix-and-flip properties by focusing on key topics like property selection\, estimating renovation costs\, and understanding property values. You’ll sharpen your skills through hands-on exercises and real-life examples. We’ll cover the valuation techniques that professionals use\, including how to calculate the after-repair value using MLS and other tools. This knowledge will help you to make informed investment decisions and maximize your potential profits. \nSeen a distressed property and thought\, “That would be a good flip”? Bring in those addresses for live analysis as we break down the numbers and see if it has potential. All properties shared are confidential\, and you can trust that everyone in the room respects your privacy and investment opportunities. All real estate agents and wholesalers are welcome. \nYou can also submit your flip in advance for a more detailed review.\nEmail the address/property to info@calhomeco.com\nAs always food and drinks will be served + FREE Parking available. \nLet’s Connect on Social Media:\nInstagram: https://www.instagram.com/californiahomecompany/\nFacebook: https://www.facebook.com/TheCalHomeCo
URL:https://calhomeco.com/event/deal-or-no-deal-house-flipping-pitch-sessions-july-2025/
LOCATION:CalHomeCo\, 4250 Morena Boulevard #ste e\, San Diego\, CA\, 92117\, United States
CATEGORIES:Real Estate Investing
ATTACH;FMTTYPE=image/png:https://calhomeco.com/wp-content/uploads/2025/05/Event-cover-12.png
END:VEVENT
END:VCALENDAR