BEGIN:VCALENDAR
VERSION:2.0
PRODID:-//CalHomeCo - ECPv6.15.5//NONSGML v1.0//EN
CALSCALE:GREGORIAN
METHOD:PUBLISH
X-WR-CALNAME:CalHomeCo
X-ORIGINAL-URL:https://calhomeco.com
X-WR-CALDESC:Events for CalHomeCo
REFRESH-INTERVAL;VALUE=DURATION:PT1H
X-Robots-Tag:noindex
X-PUBLISHED-TTL:PT1H
BEGIN:VTIMEZONE
TZID:America/Los_Angeles
BEGIN:DAYLIGHT
TZOFFSETFROM:-0800
TZOFFSETTO:-0700
TZNAME:PDT
DTSTART:20250309T100000
END:DAYLIGHT
BEGIN:STANDARD
TZOFFSETFROM:-0700
TZOFFSETTO:-0800
TZNAME:PST
DTSTART:20251102T090000
END:STANDARD
END:VTIMEZONE
BEGIN:VEVENT
DTSTART;TZID=America/Los_Angeles:20250611T170000
DTEND;TZID=America/Los_Angeles:20250611T190000
DTSTAMP:20260419T082617
CREATED:20250523T191431Z
LAST-MODIFIED:20250523T191431Z
UID:49210-1749661200-1749668400@calhomeco.com
SUMMARY:How to Get Started & Scale in Multifamily Real Estate Investing
DESCRIPTION:Interested in building long-term wealth through real estate investing? \nWhether you’re a real estate agent ready to invest in your first multifamily property\, or a new investor looking to scale smartly—this event is for you. Join us on June 11th for an exclusive\, in-person session with Jason Lee\, one of San Diego’s top commercial real estate brokers and a multifamily investment expert. \nSpeaker: \nJason Lee – Nara Advisors \nJason Lee is a highly recognized real estate agent in the multifamily real estate industry. He has worked with over multiple eight to ten figure real estate investors from San Diego County\, helping them acquire and sell apartment complexes. In the last few years\, Jason has represented over 100 investors and sold over $300\,000\,000 worth of real estate in San Diego County. \nHe is well respected by his investors and he is currently one of the top producing real estate agents in San Diego County. His transactions have been shared in the San Diego Business Journal and Costar. Jason’s core values putting his clients’ interests before his and absolute integrity. \nJason has sold more commercial real estate than anyone else in the country at his age. He is now dedicated to helping new agents succeed in this business and growing JLM Real Estate. His secret\, highly profitable system he created is repeatable and scalable for other agents to utilize. Jason owns $50\,000\,000 in real estate in San Diego. \nhttps://www.instagram.com/jasonjosephlee/ \nhttps://www.facebook.com/profile.php?id=100001701018561# \nIn this session\, Jason will cover: \n\nHow to find multifamily deals and evaluate them using key metrics\nWhat makes a deal attractive to investors in today’s market\nWhere to source off-market and value-add multifamily opportunities\nHow to finance your first (or next) multifamily property Tools\, software\, and time-saving tips for busy professionals\n\nSponsor: \nBrandon Warnke – TaliMar Financial \nTaliMar Financial has been funding California hard money loans for non-owner occupied residential and commercial fix and flip\, construction\, and bridge loans since 2008. As a direct lender through their mortgage fund\, TaliMar Income Fund I\, offers flexible private money loan programs for investors that need to close quickly. \nThis is a must-attend event for real estate agents\, new investors\, and anyone curious about how to break into multifamily real estate investing in San Diego and beyond. \nThis event is free for people in the real estate industry (agents\, investors\, lenders\, title and escrow reps). For those outside the industry\, there is a $5 fee. \nNetworking\, food and drinks \nBut that’s not all – this event is also a great opportunity to network with other like-minded professionals in the real estate industry. Share your experiences\, make valuable connections\, and potentially find new deals down the line. Plus\, we’ll have some tasty snacks and drinks on hand to keep the energy high and the conversation flowing. \nSo don’t miss out on this chance to level up your real estate game. Reserve your spot today! \nAs always\, food and drinks will be served. \nLet’s connect on social:\nhttps://www.instagram.com/californiahomecompany/\nhttps://www.facebook.com/TheCalHomeCo/ \nHave a question?\n📞 (858) 633-7812\n📧 info@calhomeco.com\n🌐 calhomeco.com
URL:https://calhomeco.com/event/how-to-get-started-scale-in-multifamily-real-estate-investing/
LOCATION:CalHomeCo\, 4250 Morena Boulevard #ste e\, San Diego\, CA\, 92117\, United States
CATEGORIES:Real Estate Investing
ATTACH;FMTTYPE=image/png:https://calhomeco.com/wp-content/uploads/2025/05/Event-cover-11.png
END:VEVENT
END:VCALENDAR